BEGIN:VCALENDAR
VERSION:2.0
PRODID:-//KOMM.ST - ECPv6.15.20//NONSGML v1.0//EN
CALSCALE:GREGORIAN
METHOD:PUBLISH
X-WR-CALNAME:KOMM.ST
X-ORIGINAL-URL:https://www.komm.st
X-WR-CALDESC:Veranstaltungen für KOMM.ST
REFRESH-INTERVAL;VALUE=DURATION:PT1H
X-Robots-Tag:noindex
X-PUBLISHED-TTL:PT1H
BEGIN:VTIMEZONE
TZID:Europe/Vienna
BEGIN:DAYLIGHT
TZOFFSETFROM:+0100
TZOFFSETTO:+0200
TZNAME:CEST
DTSTART:20230326T010000
END:DAYLIGHT
BEGIN:STANDARD
TZOFFSETFROM:+0200
TZOFFSETTO:+0100
TZNAME:CET
DTSTART:20231029T010000
END:STANDARD
BEGIN:DAYLIGHT
TZOFFSETFROM:+0100
TZOFFSETTO:+0200
TZNAME:CEST
DTSTART:20240331T010000
END:DAYLIGHT
BEGIN:STANDARD
TZOFFSETFROM:+0200
TZOFFSETTO:+0100
TZNAME:CET
DTSTART:20241027T010000
END:STANDARD
BEGIN:DAYLIGHT
TZOFFSETFROM:+0100
TZOFFSETTO:+0200
TZNAME:CEST
DTSTART:20250330T010000
END:DAYLIGHT
BEGIN:STANDARD
TZOFFSETFROM:+0200
TZOFFSETTO:+0100
TZNAME:CET
DTSTART:20251026T010000
END:STANDARD
END:VTIMEZONE
BEGIN:VEVENT
DTSTART;TZID=Europe/Vienna:20240920T200000
DTEND;TZID=Europe/Vienna:20241201T180000
DTSTAMP:20260421T041706
CREATED:20240911T234531Z
LAST-MODIFIED:20240911T234534Z
UID:10000284-1726862400-1733076000@www.komm.st
SUMMARY:Ausstellung Marcus Andraschek - Ich sehe was\, was du nicht siehst
DESCRIPTION:Marcus Andraschek möchte durch seine Zeichnungen mit Menschen in Interaktion treten und kommuniziert mit ihnen durch seine Arbeiten. Wir alle haben einen anderen Zugang zu Bildender Kunst. Für den Einen sind es aneinander gereihte Linien und für den Anderen sind es viele kleine und feine Details. Andraschek wählt konsequent die Farbe Schwarz als zentralen Bestandteil seiner Zeichnungen und möchte zum Staunen und Nachdenken anregen und lädt zu einem intimen Blick in seine Gedankenwelt. \n\n\n\nMarkus Andraschek ist ein junger Bildender Künstler\, Musiker und Tattoo Artist aus Gleisdorf. Die Ausstellung „Ich sehe was\, was du nicht siehst“ ist seine erste Ausstellung als Zeichner.
URL:https://www.komm.st/event/ausstellung-marcus-andraschek-ich-sehe-was-was-du-nicht-siehst/
LOCATION:KOMM.ST LAB\, Hauptplatz 15\,\, Anger\, 8184\, Österreich
ATTACH;FMTTYPE=image/jpeg:https://www.komm.st/wp-content/uploads/2024/09/IMG_0106.jpg
GEO:47.2742629;15.6895682
X-APPLE-STRUCTURED-LOCATION;VALUE=URI;X-ADDRESS=KOMM.ST LAB Hauptplatz 15 Anger 8184 Österreich;X-APPLE-RADIUS=500;X-TITLE=Hauptplatz 15\,:geo:15.6895682,47.2742629
END:VEVENT
BEGIN:VEVENT
DTSTART;TZID=Europe/Vienna:20241107T203000
DTEND;TZID=Europe/Vienna:20241107T220000
DTSTAMP:20260421T041706
CREATED:20240402T142817Z
LAST-MODIFIED:20240417T121926Z
UID:10000229-1731011400-1731016800@www.komm.st
SUMMARY:Theater Hödlmoser – Aufstieg und Fall des letzten Ursteirers
DESCRIPTION:Tragikomödie von Bernd Watzka nach dem Roman „Aus dem Leben Hödlmosers“ von Reinhard P. Gruber (Residenz Verlag)50 Jahre nach Erscheinen des steirischen Rock’n’Roll-Romanklassikers hat Bernd Watzka die erste offizielle Theaterfassung vorgelegt\, die das Original zelebriert und neu aufmischt zu einem rasanten Abend voll von Ursteirischem Humor\, Gruberschem Wortwitz\, gewaltiger Action und intensiven Ausseinandersetzungen.Johann Wolfgang Lampl (aka Jimi Lend)\, selbst ein eloquenter Bauernjunge\, hat mit dem Hödlmoser eine seiner großen Lebensrollen gefunden und füllt den raufenden\, polternden und sinnierenden Ursteirer mit grosser Leidenschaft aus. Tobias Kerschbaumer schlüpft in die Rollen des Sohnes\, des Rivalen\, des Freundes und des Halbbruders und beweist dabei Wandlungsfähigkeit und Spielwitz. Sissi Noè ist Hödlmosers widerborstige Braut und gleichzeitig seine Richterin am Jüngsten Gericht.Schauspiel: Jimi Lend (Wolfgang Lampl)\, Sissi Noè und Tobias KerschbaumerText: Bernd WatzkaRegie: Ursula LeitnerAK: 16€ (ermäßigt 12€) VVK: 14€ (ermäßigt 10€)Vorverkaufskarten in allen oeticket-Filialen oder unter www.oeticket.comErmäßigung für Schüler\, Studenten\, Lehrlinge\, Präsenz- und Zivildiener
URL:https://www.komm.st/event/theater-hoedlmoser-aufstieg-und-fall-des-letzten-ursteirers/
LOCATION:Gasthaus Stixpeter\, Unterfeistritz 17\, Floing\, Steiermark\, 8183\, Österreich
ATTACH;FMTTYPE=image/jpeg:https://www.komm.st/wp-content/uploads/2024/04/Ulrike_Rauch-4854-scaled.jpg
GEO:47.2464657;15.7243612
X-APPLE-STRUCTURED-LOCATION;VALUE=URI;X-ADDRESS=Gasthaus Stixpeter Unterfeistritz 17 Floing Steiermark 8183 Österreich;X-APPLE-RADIUS=500;X-TITLE=Unterfeistritz 17:geo:15.7243612,47.2464657
END:VEVENT
END:VCALENDAR