BEGIN:VCALENDAR
VERSION:2.0
PRODID:-//KOMM.ST - ECPv6.15.20//NONSGML v1.0//EN
CALSCALE:GREGORIAN
METHOD:PUBLISH
X-ORIGINAL-URL:https://www.komm.st
X-WR-CALDESC:Veranstaltungen für KOMM.ST
REFRESH-INTERVAL;VALUE=DURATION:PT1H
X-Robots-Tag:noindex
X-PUBLISHED-TTL:PT1H
BEGIN:VTIMEZONE
TZID:Europe/Vienna
BEGIN:DAYLIGHT
TZOFFSETFROM:+0100
TZOFFSETTO:+0200
TZNAME:CEST
DTSTART:20230326T010000
END:DAYLIGHT
BEGIN:STANDARD
TZOFFSETFROM:+0200
TZOFFSETTO:+0100
TZNAME:CET
DTSTART:20231029T010000
END:STANDARD
BEGIN:DAYLIGHT
TZOFFSETFROM:+0100
TZOFFSETTO:+0200
TZNAME:CEST
DTSTART:20240331T010000
END:DAYLIGHT
BEGIN:STANDARD
TZOFFSETFROM:+0200
TZOFFSETTO:+0100
TZNAME:CET
DTSTART:20241027T010000
END:STANDARD
BEGIN:DAYLIGHT
TZOFFSETFROM:+0100
TZOFFSETTO:+0200
TZNAME:CEST
DTSTART:20250330T010000
END:DAYLIGHT
BEGIN:STANDARD
TZOFFSETFROM:+0200
TZOFFSETTO:+0100
TZNAME:CET
DTSTART:20251026T010000
END:STANDARD
END:VTIMEZONE
BEGIN:VEVENT
DTSTART;TZID=Europe/Vienna:20240726T200000
DTEND;TZID=Europe/Vienna:20240914T210000
DTSTAMP:20260421T184641
CREATED:20240715T055547Z
LAST-MODIFIED:20240715T160731Z
UID:10000282-1722024000-1726347600@www.komm.st
SUMMARY:Ausstellung Daniela Schlager - danimonart
DESCRIPTION:Vernissage: 26. Juli um 18 UhrAusstellungsdauer: 27. Juli – 14. September 2024Jeweils von 09.00 – 17.00 UhrEintritt frei! \nAusgehend von Druckdesigns für T-Shirts gestaltete Daniela Schlager eine Ausstellung eigens für das KOMM.ST LAB in Anger. Dazu hat sie die Siebdruck-Folien mit einem Overheadprojektor auf die Leinwände projiziert\, abgezeichnet und mit Acryl Farbe ausgemalt und ist dabei den Originalen weitgehend treu geblieben. Die Motive stammen alle aus dem letzten Jahr (2023/24) und von allen gibt es auch Drucke auf Shirts oder Stofftaschen. Einzige Ausnahme sind die „Beetles“\, die bei Umsetzung der Ausstellung selbst noch in Entstehung waren und deshalb einen ganz eigenen Weg gegangen sind. \nDaniela Monika Schlager ist die Druckkünstlerin hinter danimonart und lebt und arbeitet in Puch und Graz. Ihre Liebe zur Kunst begann schon in der Kindheit und zieht sich durch ihr ganzes Leben. Für sie sind die kreativen Möglichkeiten im Umgang mit Druchtechniken extrem spannend. Die Reproduzierbarkeit von Motiven und die gleichzeitige Einzigartigkeit jedes einzelnen Druckes faszinieren und inspirieren Daniela Schlager immer wieder aufs Neue. \n 
URL:https://www.komm.st/event/ausstellung-daniela-schlager-danimonart/
LOCATION:KOMM.ST LAB\, Hauptplatz 15\,\, Anger\, 8184\, Österreich
CATEGORIES:KOMM:ST 2023,KOMM.ST LAB,Lab
ATTACH;FMTTYPE=image/jpeg:https://www.komm.st/wp-content/uploads/2024/07/Die_Liebenden.jpg
ORGANIZER;CN="KOMM.ST":MAILTO:gf@monochrom.at
GEO:47.2742629;15.6895682
X-APPLE-STRUCTURED-LOCATION;VALUE=URI;X-ADDRESS=KOMM.ST LAB Hauptplatz 15 Anger 8184 Österreich;X-APPLE-RADIUS=500;X-TITLE=Hauptplatz 15\,:geo:15.6895682,47.2742629
END:VEVENT
BEGIN:VEVENT
DTSTART;TZID=Europe/Vienna:20240802T213000
DTEND;TZID=Europe/Vienna:20240802T233000
DTSTAMP:20260421T184641
CREATED:20231213T202941Z
LAST-MODIFIED:20231213T205436Z
UID:10000222-1722634200-1722641400@www.komm.st
SUMMARY:KÜLML KOMM.ST 2024 - Schick Sisters
DESCRIPTION:Seit einigen Jahren verwandelt sich das Schloss Külml in Oberfeistritz für zwei Tage im Jahr in einen einzigartigen Ort für Kunst und Kultur. Die ehemaligen Musikkabarettistinnen „Dornrosen“ touren mit dem bereits 3. eigenen Song-Programm als SCHICK SISTERS. \nMit FREE! feiern sie nicht nur die wiedergewonnene Freiheit\, Musik LIVE mit dem Publikum teilen zu können\, sondern wollen nicht mehr und nicht weniger\, als zumindest für die Dauer des Konzertes – den Kopf einmal frei zu machen…und das gelingt den geborenen Entertainerinnen ohne Mühe. Mit ihrer Mischung aus Humor\, brillanter Musikalität und familiärer Stimmung treffen die drei genau den richtigen Ton und entlassen ihr Publikum mit Freude im Herzen! \nKatharina Schick – Gesang\, Gitarre\nChristine Schick – Gesang\, Violine\nVeronika Schick – Gesang\, Kontrabass\, Klavier \nZeit: Freitag\, 02. August\, 19.30 Uhr\, Einlass 18.30 Uhr\nOrt: Schloss Külml\, Oberfeistritz 34\, 8183 Anger \nVVK: 25€ (ermäßigt 20€) \n2-Tageskarte KÜLML KOMM.ST\nVVK: 40\,50€ (ermäßigt 30\,50€) \nVorverkaufskarten in allen oeticket-Filialen oder unter www.oeticket.com\nErmäßigung für Schüler\, Studenten\, Lehrlinge\, Präsenz- und Zivildiener
URL:https://www.komm.st/event/kuelml-komm-st-2024-schick-sisters/
LOCATION:KOMM.ST LAB\, Hauptplatz 15\,\, Anger\, 8184\, Österreich
CATEGORIES:Festival,KOMM.ST 2024,Konzert,Musik
ATTACH;FMTTYPE=image/jpeg:https://www.komm.st/wp-content/uploads/2023/12/Schick-Sisters.jpg
ORGANIZER;CN="KOMM.ST":MAILTO:gf@monochrom.at
GEO:47.2742629;15.6895682
X-APPLE-STRUCTURED-LOCATION;VALUE=URI;X-ADDRESS=KOMM.ST LAB Hauptplatz 15 Anger 8184 Österreich;X-APPLE-RADIUS=500;X-TITLE=Hauptplatz 15\,:geo:15.6895682,47.2742629
END:VEVENT
BEGIN:VEVENT
DTSTART;TZID=Europe/Vienna:20240803T213000
DTEND;TZID=Europe/Vienna:20240803T233000
DTSTAMP:20260421T184641
CREATED:20231213T203501Z
LAST-MODIFIED:20231213T205336Z
UID:10000223-1722720600-1722727800@www.komm.st
SUMMARY:KÜLML KOMM.ST 2024 - Bartolomey Bittmann
DESCRIPTION:Seit einigen Jahren verwandelt sich das Schloss Külml in Oberfeistritz für zwei Tage im Jahr in einen einzigartigen Ort für Kunst und Kultur.  Am zweiten Tag von KÜLML KOMM.ST spielen Bartolomey Bittmann ein Best Of. \nDer Respekt vor dem Klang ihrer Instrumente\, sowie die Lust am gemeinsamen Entwickeln der damit möglichen neuen Klangbilder\, führt zwei Musiker zusammen. Der Cellist Matthias Bartolomey und der Geiger und Mandolaspieler Klemens Bittmann führen in ihrem Zusammenspiel ihr stark in der klassischen Musiktradition verankertes Instrumentarium auf einen neuen Weg. Mit Spontanität und Improvisation der Jazzästhetik verbinden sie intim groovende bis hin zu kraftvoll rockenden Elemente. \nMatthias Bartolomey – Violoncello\nKlemens Bittmann – Violine & Mandola \nZeit: Samstag\, 03. August\, 19.30 Uhr\, Einlass 18.30 Uhr\nOrt: Schloss Külml\, Oberfeistritz 34\, 8183 Anger \nVVK: 25€ (ermäßigt 20€) \n2-Tageskarte KÜLML KOMM.ST\nVVK: 40\,50€ (ermäßigt 30\,50€) \nVorverkaufskarten in allen oeticket-Filialen oder unter www.oeticket.com\nErmäßigung für Schüler\, Studenten\, Lehrlinge\, Präsenz- und Zivildiener
URL:https://www.komm.st/event/kuelml-komm-st-2024-bartolomey-bittmann/
LOCATION:KOMM.ST LAB\, Hauptplatz 15\,\, Anger\, 8184\, Österreich
CATEGORIES:Festival,KOMM.ST,KOMM.ST 2024,Konzert,Musik
ATTACH;FMTTYPE=image/jpeg:https://www.komm.st/wp-content/uploads/2023/12/bartolomeybittmann-c-stephan-doleschal-hb-_1080x1080.jpg
ORGANIZER;CN="KOMM.ST":MAILTO:gf@monochrom.at
GEO:47.2742629;15.6895682
X-APPLE-STRUCTURED-LOCATION;VALUE=URI;X-ADDRESS=KOMM.ST LAB Hauptplatz 15 Anger 8184 Österreich;X-APPLE-RADIUS=500;X-TITLE=Hauptplatz 15\,:geo:15.6895682,47.2742629
END:VEVENT
END:VCALENDAR