BEGIN:VCALENDAR
VERSION:2.0
PRODID:-//KOMM.ST - ECPv6.15.20//NONSGML v1.0//EN
CALSCALE:GREGORIAN
METHOD:PUBLISH
X-ORIGINAL-URL:https://www.komm.st
X-WR-CALDESC:Veranstaltungen für KOMM.ST
REFRESH-INTERVAL;VALUE=DURATION:PT1H
X-Robots-Tag:noindex
X-PUBLISHED-TTL:PT1H
BEGIN:VTIMEZONE
TZID:Europe/Vienna
BEGIN:DAYLIGHT
TZOFFSETFROM:+0100
TZOFFSETTO:+0200
TZNAME:CEST
DTSTART:20220327T010000
END:DAYLIGHT
BEGIN:STANDARD
TZOFFSETFROM:+0200
TZOFFSETTO:+0100
TZNAME:CET
DTSTART:20221030T010000
END:STANDARD
BEGIN:DAYLIGHT
TZOFFSETFROM:+0100
TZOFFSETTO:+0200
TZNAME:CEST
DTSTART:20230326T010000
END:DAYLIGHT
BEGIN:STANDARD
TZOFFSETFROM:+0200
TZOFFSETTO:+0100
TZNAME:CET
DTSTART:20231029T010000
END:STANDARD
BEGIN:DAYLIGHT
TZOFFSETFROM:+0100
TZOFFSETTO:+0200
TZNAME:CEST
DTSTART:20240331T010000
END:DAYLIGHT
BEGIN:STANDARD
TZOFFSETFROM:+0200
TZOFFSETTO:+0100
TZNAME:CET
DTSTART:20241027T010000
END:STANDARD
END:VTIMEZONE
BEGIN:VEVENT
DTSTART;TZID=Europe/Vienna:20231027T110000
DTEND;TZID=Europe/Vienna:20231210T180000
DTSTAMP:20260423T120415
CREATED:20231023T173429Z
LAST-MODIFIED:20231023T173429Z
UID:10000221-1698404400-1702231200@www.komm.st
SUMMARY:Fotoausstellung 0101101001 I Günther Friesinger
DESCRIPTION:Ausstellungsdauer: 27. Oktober – 10. Dezember 2023\njeweils von 09.00 – 17.00 Uhr\nWochenende nach Vereinbarung\nEintritt frei! \nDie Fotoausstellung „0101101001“ von Günther Friesinger ist eine eindrucksvolle Ausstellung welche die Beziehung zwischen künstlicher Intelligenz und menschlicher Wahrnehmung erkundet. Die Bilder enthüllen die Potenziale der KI\, um die Art und Weise\, wie wir die Welt sehen und verstehen\, zu transformieren. Friesinger fängt die faszinierende Verschmelzung von Technologie und menschlicher Wahrnehmung ein und lädt dazu ein\, über die Chancen und Herausforderungen dieser Verbindung nachzudenken. Dieses Werk regt dazu an\, die Möglichkeiten der KI in der Kunst und darüber hinaus zu überdenken und zeigt\, wie sie unsere Perspektive auf die Welt verändert. \nGünther Friesinger ist Medienkünstler\, Autor\, Kurator und Produzent. Er ist Geschäftsführer des Künstler:innen Kollektives monochrom\, Gründer und Leiter von paraflows – Plattform für Digitale Kunst und Kultur in Wien\, Festivalleiter der Roboexotica. und Produzent von KOMM.ST. Aktuelle Filme: Hacking at Leaves (2023)\, Razzennest (2022)\, Transformiert Euch! (2022). Aktuelle Publikationen: Protestformen. Widerstand als kulturelle Praxis (2023)\, Neue Kunst an alten Orten: 10 Jahre KOMM.ST als kulturelle Nahversorgung (2021)\, Subvert Subversion: Politischer Widerstand als Kulturelle Praxis (2020)\, End/Zeit: Das Apokalyptische zwischen Politik\, Prognose und Technologie (2018). Tag-Cloud: Zeitgenössische Kunst\, Digitale Kultur\, Aktivismus\, Performance\, Medientheorie\, Science Fiction\, Open Culture\, Urban Hacking
URL:https://www.komm.st/event/fotoausstellung-0101101001-i-guenther-friesinger/
LOCATION:KOMM.ST LAB\, Hauptplatz 15\,\, Anger\, 8184\, Österreich
CATEGORIES:KOMM:ST 2023,KOMM.ST LAB,Lab
ATTACH;FMTTYPE=image/jpeg:https://www.komm.st/wp-content/uploads/2023/10/KOMMST_11-scaled.jpg
ORGANIZER;CN="KOMM.ST":MAILTO:gf@monochrom.at
GEO:47.2742629;15.6895682
X-APPLE-STRUCTURED-LOCATION;VALUE=URI;X-ADDRESS=KOMM.ST LAB Hauptplatz 15 Anger 8184 Österreich;X-APPLE-RADIUS=500;X-TITLE=Hauptplatz 15\,:geo:15.6895682,47.2742629
END:VEVENT
END:VCALENDAR